BEGIN:VCALENDAR
VERSION:2.0
PRODID:-//eventon.com NONSGML v1.0//EN
CALSCALE:GREGORIAN
METHOD:PUBLISH
BEGIN:VEVENT
UID:69e658f2f272e
DTSTAMP:20260420T164850Z
DTSTART:20260403T110000Z
DTEND:20260403T130000Z
LOCATION:
SUMMARY:Mobile Health Leadership Training Series (March–December 2026)
DESCRIPTION:Sessions are held on the first Friday of each month at 11:00 A
 M ET (60 minutes: 45 minutes content + 15 minutes Q&A).\nhttps://wypca.org
 /events/ipv-series-copy/
URL:https://wypca.org/events/ipv-series-copy/
END:VEVENT
END:VCALENDAR